BEGIN:VCALENDAR
VERSION:2.0
PRODID:-//TEXAS STATE EMPLOYEES UNION CWA Local 6186 - ECPv6.15.20//NONSGML v1.0//EN
CALSCALE:GREGORIAN
METHOD:PUBLISH
X-WR-CALNAME:TEXAS STATE EMPLOYEES UNION CWA Local 6186
X-ORIGINAL-URL:https://cwa-tseu.org
X-WR-CALDESC:Events for TEXAS STATE EMPLOYEES UNION CWA Local 6186
REFRESH-INTERVAL;VALUE=DURATION:PT1H
X-Robots-Tag:noindex
X-PUBLISHED-TTL:PT1H
BEGIN:VTIMEZONE
TZID:America/Chicago
BEGIN:DAYLIGHT
TZOFFSETFROM:-0600
TZOFFSETTO:-0500
TZNAME:CDT
DTSTART:20240310T080000
END:DAYLIGHT
BEGIN:STANDARD
TZOFFSETFROM:-0500
TZOFFSETTO:-0600
TZNAME:CST
DTSTART:20241103T070000
END:STANDARD
BEGIN:DAYLIGHT
TZOFFSETFROM:-0600
TZOFFSETTO:-0500
TZNAME:CDT
DTSTART:20250309T080000
END:DAYLIGHT
BEGIN:STANDARD
TZOFFSETFROM:-0500
TZOFFSETTO:-0600
TZNAME:CST
DTSTART:20251102T070000
END:STANDARD
BEGIN:DAYLIGHT
TZOFFSETFROM:-0600
TZOFFSETTO:-0500
TZNAME:CDT
DTSTART:20260308T080000
END:DAYLIGHT
BEGIN:STANDARD
TZOFFSETFROM:-0500
TZOFFSETTO:-0600
TZNAME:CST
DTSTART:20261101T070000
END:STANDARD
BEGIN:DAYLIGHT
TZOFFSETFROM:-0600
TZOFFSETTO:-0500
TZNAME:CDT
DTSTART:20270314T080000
END:DAYLIGHT
BEGIN:STANDARD
TZOFFSETFROM:-0500
TZOFFSETTO:-0600
TZNAME:CST
DTSTART:20271107T070000
END:STANDARD
END:VTIMEZONE
BEGIN:VEVENT
DTSTART;TZID=America/Chicago:20260305T120000
DTEND;TZID=America/Chicago:20260305T140000
DTSTAMP:20260425T203752
CREATED:20260220T182421Z
LAST-MODIFIED:20260220T182421Z
UID:16059-1772712000-1772719200@cwa-tseu.org
SUMMARY:Austin ROC Meeting (Retirees Organizing Committee)
DESCRIPTION:On the agenda:\nPrimary election results\nplans for the April 11 statewide meeting\n\nRSVP via email if you plan to attend. Let us know if you plan to attend via zoom and we will send you the link.
URL:https://cwa-tseu.org/event/austin-roc-meeting-retirees-organizing-committee/
LOCATION:Hybrid – in office & virtual
ORGANIZER;CN="ROC":MAILTO:tseuroc@gmail.com
END:VEVENT
BEGIN:VEVENT
DTSTART;TZID=America/Chicago:20260304T183000
DTEND;TZID=America/Chicago:20260304T200000
DTSTAMP:20260425T203752
CREATED:20260217T200640Z
LAST-MODIFIED:20260217T200640Z
UID:16035-1772649000-1772654400@cwa-tseu.org
SUMMARY:UTSA Organizing Committee Meeting
DESCRIPTION:Join the UT San Antonio University Organizing Committee! We meet every other Wednesday at 6:30pm. Our meetings are hybrid; RSVP to get the zoom link or address to meet in-person in San Antonio!
URL:https://cwa-tseu.org/event/utsa-organizing-committee-meeting-2/
LOCATION:Hybrid – in office & virtual
ORGANIZER;CN="Carolynn Ekbaeck":MAILTO:cekbaeck@cwa-tseu.org
END:VEVENT
BEGIN:VEVENT
DTSTART;TZID=America/Chicago:20260304T183000
DTEND;TZID=America/Chicago:20260304T193000
DTSTAMP:20260425T203752
CREATED:20260216T211010Z
LAST-MODIFIED:20260216T211010Z
UID:15984-1772649000-1772652600@cwa-tseu.org
SUMMARY:Texas State University OC Meeting
DESCRIPTION:Join the Texas State University Organizing Committee! We meet every Wednesday at 6:30pm. Our meetings are hybrid; RSVP to get the zoom link or address to meet in-person in San Marcos!
URL:https://cwa-tseu.org/event/texas-state-university-oc-meeting-3/
LOCATION:Hybrid
ORGANIZER;CN="Catarina Kissinger":MAILTO:ckissinger@cwa-tseu.org
END:VEVENT
BEGIN:VEVENT
DTSTART;VALUE=DATE:20260228
DTEND;VALUE=DATE:20260301
DTSTAMP:20260425T203752
CREATED:20260216T213342Z
LAST-MODIFIED:20260216T213342Z
UID:16006-1772236800-1772323199@cwa-tseu.org
SUMMARY:Candidate Block Walks
DESCRIPTION:Block walking is a vital and effective way to inform voters about the candidates on the ballot. In our focus races\, TSEU members will be hitting the doors every Saturday! \nEmail tsheldon@cwa-tseu.org to RSVP to block walk or phone bank!
URL:https://cwa-tseu.org/event/candidate-block-walks-2/
LOCATION:RSVP for Venue
ORGANIZER;CN="Tyler Sheldon":MAILTO:tsheldon@cwa-tseu.org
END:VEVENT
BEGIN:VEVENT
DTSTART;TZID=America/Chicago:20260225T183000
DTEND;TZID=America/Chicago:20260225T193000
DTSTAMP:20260425T203752
CREATED:20260216T210930Z
LAST-MODIFIED:20260219T155837Z
UID:15982-1772044200-1772047800@cwa-tseu.org
SUMMARY:CANCELLED: Texas State University OC Meeting
DESCRIPTION:This week’s meeting is cancelled since we’ll be tabling on campus! \n  \nJoin the Texas State University Organizing Committee! We meet every Wednesday at 6:30pm. Our meetings are hybrid; RSVP to get the zoom link or address to meet in-person in San Marcos!
URL:https://cwa-tseu.org/event/texas-state-university-oc-meeting-2/
LOCATION:Hybrid
ORGANIZER;CN="Catarina Kissinger":MAILTO:ckissinger@cwa-tseu.org
END:VEVENT
BEGIN:VEVENT
DTSTART;TZID=America/Chicago:20260225T160000
DTEND;TZID=America/Chicago:20260225T180000
DTSTAMP:20260425T203752
CREATED:20260220T182009Z
LAST-MODIFIED:20260220T182009Z
UID:16055-1772035200-1772042400@cwa-tseu.org
SUMMARY:UT Austin Union Social
DESCRIPTION:Meet us at Tweedy’s from 4pm-6pm on the fourth Wednesday of every month!
URL:https://cwa-tseu.org/event/ut-austin-union-social/
LOCATION:RSVP for Venue
ORGANIZER;CN="Shaneal Harun":MAILTO:sharun@cwa-tseu.org
END:VEVENT
BEGIN:VEVENT
DTSTART;TZID=America/Chicago:20260224T133000
DTEND;TZID=America/Chicago:20260224T150000
DTSTAMP:20260425T203752
CREATED:20260217T191838Z
LAST-MODIFIED:20260217T191838Z
UID:16030-1771939800-1771945200@cwa-tseu.org
SUMMARY:Southern Rio Grande Valley Retiree Meeting
DESCRIPTION:RSVP for details!
URL:https://cwa-tseu.org/event/southern-rio-grande-valley-retiree-meeting/
LOCATION:RSVP for Venue
ORGANIZER;CN="Albert Zepeda":MAILTO:azepeda@cwa-tseu.org
END:VEVENT
BEGIN:VEVENT
DTSTART;TZID=America/Chicago:20260223T180000
DTEND;TZID=America/Chicago:20260223T190000
DTSTAMP:20260425T203752
CREATED:20260217T161700Z
LAST-MODIFIED:20260217T161700Z
UID:16014-1771869600-1771873200@cwa-tseu.org
SUMMARY:Austin-area TCEQ Meeting
DESCRIPTION:Contact Maggie DiSanza for details!
URL:https://cwa-tseu.org/event/austin-area-tceq-meeting/
LOCATION:RSVP for Venue
ORGANIZER;CN="Maggie DiSanza":MAILTO:mdisanza@cwa-tseu.org
END:VEVENT
BEGIN:VEVENT
DTSTART;TZID=America/Chicago:20260221T100000
DTEND;TZID=America/Chicago:20260221T120000
DTSTAMP:20260425T203752
CREATED:20260216T213518Z
LAST-MODIFIED:20260217T161557Z
UID:16008-1771668000-1771675200@cwa-tseu.org
SUMMARY:CANCELLED: Austin Area Organizing Meeting
DESCRIPTION:Meeting cancelled so that we can block walk for our endorsed candidates instead!
URL:https://cwa-tseu.org/event/austin-area-organizing-meeting/
LOCATION:Austin TSEU Office\, 627 Radam Ln\, Austin\, TX\, 78745\, United States
ORGANIZER;CN="Maggie DiSanza":MAILTO:mdisanza@cwa-tseu.org
END:VEVENT
BEGIN:VEVENT
DTSTART;VALUE=DATE:20260221
DTEND;VALUE=DATE:20260222
DTSTAMP:20260425T203752
CREATED:20260216T213309Z
LAST-MODIFIED:20260216T213309Z
UID:16004-1771632000-1771718399@cwa-tseu.org
SUMMARY:Candidate Block Walks
DESCRIPTION:Block walking is a vital and effective way to inform voters about the candidates on the ballot. In our focus races\, TSEU members will be hitting the doors every Saturday! \nEmail tsheldon@cwa-tseu.org to RSVP to block walk or phone bank!
URL:https://cwa-tseu.org/event/candidate-block-walks/
LOCATION:RSVP for Venue
ORGANIZER;CN="Tyler Sheldon":MAILTO:tsheldon@cwa-tseu.org
END:VEVENT
BEGIN:VEVENT
DTSTART;TZID=America/Chicago:20260219T150000
DTEND;TZID=America/Chicago:20260219T170000
DTSTAMP:20260425T203752
CREATED:20260217T191740Z
LAST-MODIFIED:20260217T191740Z
UID:16027-1771513200-1771520400@cwa-tseu.org
SUMMARY:Rio Grande Valley Retiree Meeting
DESCRIPTION:RSVP for details!
URL:https://cwa-tseu.org/event/rio-grande-valley-retiree-meeting/
LOCATION:RSVP for Venue
ORGANIZER;CN="Albert Zepeda":MAILTO:azepeda@cwa-tseu.org
END:VEVENT
BEGIN:VEVENT
DTSTART;TZID=America/Chicago:20260218T183000
DTEND;TZID=America/Chicago:20260218T200000
DTSTAMP:20260425T203752
CREATED:20260217T200600Z
LAST-MODIFIED:20260217T200600Z
UID:16033-1771439400-1771444800@cwa-tseu.org
SUMMARY:UTSA Organizing Committee Meeting
DESCRIPTION:Join the UT San Antonio University Organizing Committee! We meet every other Wednesday at 6:30pm. Our meetings are hybrid; RSVP to get the zoom link or address to meet in-person in San Antonio!
URL:https://cwa-tseu.org/event/utsa-organizing-committee-meeting/
LOCATION:Hybrid – in office & virtual
ORGANIZER;CN="Carolynn Ekbaeck":MAILTO:cekbaeck@cwa-tseu.org
END:VEVENT
BEGIN:VEVENT
DTSTART;TZID=America/Chicago:20260218T183000
DTEND;TZID=America/Chicago:20260218T193000
DTSTAMP:20260425T203752
CREATED:20260216T210809Z
LAST-MODIFIED:20260216T211203Z
UID:15980-1771439400-1771443000@cwa-tseu.org
SUMMARY:Texas State University OC Meeting
DESCRIPTION:Join the Texas State University Organizing Committee! We meet every Wednesday at 6:30pm. Our meetings are hybrid; RSVP to get the zoom link or address to meet in-person in San Marcos!
URL:https://cwa-tseu.org/event/texas-state-university-oc-meeting/
LOCATION:Hybrid
ORGANIZER;CN="Catarina Kissinger":MAILTO:ckissinger@cwa-tseu.org
END:VEVENT
BEGIN:VEVENT
DTSTART;TZID=America/Chicago:20260216T190000
DTEND;TZID=America/Chicago:20260216T200000
DTSTAMP:20260425T203752
CREATED:20260216T213934Z
LAST-MODIFIED:20260216T213934Z
UID:16011-1771268400-1771272000@cwa-tseu.org
SUMMARY:Know Your Rights Training
DESCRIPTION:Learn about resources for workers interacting with or detained by federal immigration agents.  \nDespite legally living and working alongside us\, some of our coworkers have been unjustly detained by federal authorities. Other coworkers have been harassed by unidentified federal agents without any legal justification.  Honor President’s Day 2026 by joining us for a virtual meeting for a discussion of your rights when interacting with federal agents and to review resources available to assist our coworkers and their families who have been detained. Register here. \n 
URL:https://cwa-tseu.org/event/know-your-rights-training/
LOCATION:Virtual
ORGANIZER;CN="Myko Gedutis":MAILTO:mgedutis@cwa-tseu.org
END:VEVENT
BEGIN:VEVENT
DTSTART;TZID=America/Chicago:20251119T180000
DTEND;TZID=America/Chicago:20251119T210000
DTSTAMP:20260425T203752
CREATED:20250822T183003Z
LAST-MODIFIED:20250822T183003Z
UID:15808-1763575200-1763586000@cwa-tseu.org
SUMMARY:San Antonio TSEU Game Night (great for new members!)
DESCRIPTION:Come join us as we eat some good food\, play board and/or card games and discuss organizing our workplaces! BYOB.
URL:https://cwa-tseu.org/event/san-antonio-tseu-game-night-great-for-new-members-3/
LOCATION:San Antonio TSEU Office\, 1412 El Paso St\, San Antonio\, TX\, 78207\, United States
ORGANIZER;CN="Carolynn Ekbaeck":MAILTO:cekbaeck@cwa-tseu.org
END:VEVENT
BEGIN:VEVENT
DTSTART;TZID=America/Chicago:20251119T120000
DTEND;TZID=America/Chicago:20251119T130000
DTSTAMP:20260425T203752
CREATED:20250822T182925Z
LAST-MODIFIED:20250822T182925Z
UID:15806-1763553600-1763557200@cwa-tseu.org
SUMMARY:UT San Antonio Luncheon
DESCRIPTION:UTSA Main Campus (Room TBD)\nMeet with fellow TSEU union members for lunch on main campus. Room is TBD.
URL:https://cwa-tseu.org/event/ut-san-antonio-luncheon-3/
LOCATION:RSVP for Venue
ORGANIZER;CN="Carolynn Ekbaeck":MAILTO:cekbaeck@cwa-tseu.org
END:VEVENT
BEGIN:VEVENT
DTSTART;TZID=America/Chicago:20251105T180000
DTEND;TZID=America/Chicago:20251105T200000
DTSTAMP:20260425T203752
CREATED:20250822T182846Z
LAST-MODIFIED:20250822T182846Z
UID:15804-1762365600-1762372800@cwa-tseu.org
SUMMARY:UT San Antonio Organizing Committee Meeting
DESCRIPTION:At the San Antonio TSEU Union Hall (1412 El Paso St) and Hybrid on Zoom. Email Carolynn below for the Zoom link!
URL:https://cwa-tseu.org/event/ut-san-antonio-organizing-committee-meeting-3/
LOCATION:Hybrid – in office & virtual
ORGANIZER;CN="Carolynn Ekbaeck":MAILTO:cekbaeck@cwa-tseu.org
END:VEVENT
BEGIN:VEVENT
DTSTART;TZID=America/Chicago:20251031T170000
DTEND;TZID=America/Chicago:20251031T200000
DTSTAMP:20260425T203752
CREATED:20250822T182743Z
LAST-MODIFIED:20250822T182743Z
UID:15802-1761930000-1761940800@cwa-tseu.org
SUMMARY:San Antonio TSEU Regional Family Friendly Halloween Party!
DESCRIPTION:Unions aren’t scary! Bring your coworkers and come join us for a fun kid-friendly Halloween event at our union hall. More information coming soon…
URL:https://cwa-tseu.org/event/san-antonio-tseu-regional-family-friendly-halloween-party/
LOCATION:San Antonio TSEU Office\, 1412 El Paso St\, San Antonio\, TX\, 78207\, United States
ORGANIZER;CN="Carolynn Ekbaeck":MAILTO:cekbaeck@cwa-tseu.org
END:VEVENT
BEGIN:VEVENT
DTSTART;TZID=America/Chicago:20251027T080000
DTEND;TZID=America/Chicago:20251030T170000
DTSTAMP:20260425T203752
CREATED:20250822T183049Z
LAST-MODIFIED:20250822T183049Z
UID:15810-1761552000-1761843600@cwa-tseu.org
SUMMARY:UT San Antonio Organizing Blitz
DESCRIPTION:Join us as we host a TSEU organizing blitz on campus. Come out and meet other members\, help us leaflet and table\, bring your coworkers\, and let’s get more involved in our organizing activities on campus!
URL:https://cwa-tseu.org/event/ut-san-antonio-organizing-blitz/
LOCATION:RSVP for Venue
ORGANIZER;CN="Carolynn Ekbaeck":MAILTO:cekbaeck@cwa-tseu.org
END:VEVENT
BEGIN:VEVENT
DTSTART;TZID=America/Chicago:20251026T110000
DTEND;TZID=America/Chicago:20251026T130000
DTSTAMP:20260425T203752
CREATED:20250822T182626Z
LAST-MODIFIED:20250822T182626Z
UID:15800-1761476400-1761483600@cwa-tseu.org
SUMMARY:San Antonio and South Texas Regional TSEU Book Club
DESCRIPTION:We will be reading “Secrets of a Successful Organizer” and participating in a workshop on the materials discussed in the book. Come join us and learn how to be a successful labor leader in your workplace!
URL:https://cwa-tseu.org/event/san-antonio-and-south-texas-regional-tseu-book-club-2/
LOCATION:Hybrid – in office & virtual
ORGANIZER;CN="Carolynn Ekbaeck":MAILTO:cekbaeck@cwa-tseu.org
END:VEVENT
BEGIN:VEVENT
DTSTART;TZID=America/Chicago:20251023T180000
DTEND;TZID=America/Chicago:20251023T210000
DTSTAMP:20260425T203752
CREATED:20250804T165614Z
LAST-MODIFIED:20250804T165614Z
UID:15759-1761242400-1761253200@cwa-tseu.org
SUMMARY:Retiree Organizing Committee (ROC) State Committee Meeting
DESCRIPTION:Monthly meeting of the ROC Statewide Committee \nThursday Oct. 23 6:00 PM CST  (every 4th Thursday) \nVirtual. \nRSVP to the email below for Zoom link or with questions.
URL:https://cwa-tseu.org/event/retiree-organizing-committee-roc-state-committee-meeting/
LOCATION:Virtual
ORGANIZER;CN="ROC":MAILTO:tseuroc@gmail.com
END:VEVENT
BEGIN:VEVENT
DTSTART;TZID=America/Chicago:20251015T180000
DTEND;TZID=America/Chicago:20251015T210000
DTSTAMP:20260425T203752
CREATED:20250822T182544Z
LAST-MODIFIED:20250822T182544Z
UID:15798-1760551200-1760562000@cwa-tseu.org
SUMMARY:San Antonio TSEU Game Night (great for new members!)
DESCRIPTION:Come join us as we eat some good food\, play board and/or card games and discuss organizing our workplaces! BYOB.
URL:https://cwa-tseu.org/event/san-antonio-tseu-game-night-great-for-new-members-2/
LOCATION:San Antonio TSEU Office\, 1412 El Paso St\, San Antonio\, TX\, 78207\, United States
ORGANIZER;CN="Carolynn Ekbaeck":MAILTO:cekbaeck@cwa-tseu.org
END:VEVENT
BEGIN:VEVENT
DTSTART;TZID=America/Chicago:20251015T120000
DTEND;TZID=America/Chicago:20251015T130000
DTSTAMP:20260425T203752
CREATED:20250822T182500Z
LAST-MODIFIED:20250822T182500Z
UID:15796-1760529600-1760533200@cwa-tseu.org
SUMMARY:UT San Antonio Luncheon
DESCRIPTION:Meet with fellow TSEU union members for lunch on main campus. Room is TBD.
URL:https://cwa-tseu.org/event/ut-san-antonio-luncheon-2/
LOCATION:RSVP for Venue
ORGANIZER;CN="Carolynn Ekbaeck":MAILTO:cekbaeck@cwa-tseu.org
END:VEVENT
BEGIN:VEVENT
DTSTART;TZID=America/Chicago:20251015T100000
DTEND;TZID=America/Chicago:20251015T140000
DTSTAMP:20260425T203752
CREATED:20250804T165446Z
LAST-MODIFIED:20250804T165446Z
UID:15757-1760522400-1760536800@cwa-tseu.org
SUMMARY:Caucus Meeting: Retiree Organizing Committee (ROC) Statewide
DESCRIPTION:In-person only meeting for all TSEU ROC members. \nWednesday\, Oct. 15 \nTSEU office in Austin. \nRSVP to the email below if you plan to attend.
URL:https://cwa-tseu.org/event/caucus-meeting-retiree-organizing-committee-roc-statewide/
LOCATION:Austin TSEU Office\, 627 Radam Ln\, Austin\, TX\, 78745\, United States
ORGANIZER;CN="ROC":MAILTO:tseuroc@gmail.com
END:VEVENT
BEGIN:VEVENT
DTSTART;TZID=America/Chicago:20251009T120000
DTEND;TZID=America/Chicago:20251009T150000
DTSTAMP:20260425T203752
CREATED:20250804T165320Z
LAST-MODIFIED:20250804T165320Z
UID:15755-1760011200-1760022000@cwa-tseu.org
SUMMARY:Austin Retiree Organizing Committee (ROC) Meeting
DESCRIPTION:Join other Austin-area retiree members to stay in touch and plan our Pension Campaign activities. \nThursday. Oct. 9 \n12:00pm (different day this month due to holiday; usually on the first Thursday of the month) \nHybrid: TSEU office and virtual \nSend an email to the address below with questions or to receive the Zoom link.
URL:https://cwa-tseu.org/event/austin-retiree-organizing-committee-roc-meeting-3/
LOCATION:Hybrid – in office & virtual
ORGANIZER;CN="ROC":MAILTO:tseuroc@gmail.com
END:VEVENT
BEGIN:VEVENT
DTSTART;TZID=America/Chicago:20251001T180000
DTEND;TZID=America/Chicago:20251001T200000
DTSTAMP:20260425T203752
CREATED:20250822T182237Z
LAST-MODIFIED:20250822T182237Z
UID:15794-1759341600-1759348800@cwa-tseu.org
SUMMARY:UT San Antonio Organizing Committee Meeting
DESCRIPTION:At the San Antonio TSEU Union Hall (1412 El Paso St) and Hybrid on Zoom. Email Carolynn below for the Zoom link!
URL:https://cwa-tseu.org/event/ut-san-antonio-organizing-committee-meeting-2/
LOCATION:Hybrid – in office & virtual
ORGANIZER;CN="Carolynn Ekbaeck":MAILTO:cekbaeck@cwa-tseu.org
END:VEVENT
BEGIN:VEVENT
DTSTART;TZID=America/Chicago:20250930T173000
DTEND;TZID=America/Chicago:20250930T190000
DTSTAMP:20260425T203752
CREATED:20250829T204204Z
LAST-MODIFIED:20250829T204204Z
UID:15820-1759253400-1759258800@cwa-tseu.org
SUMMARY:DFPS Organizing Committee Meeting for Region 6B - South
DESCRIPTION:The DFPS Organizing Committee Meeting for Region 6B – South is scheduled for the following date and location:\n  \n\nSeptember 30\, 2025 @ 5:30pm \nMoore Memorial Public Library  \n1701 9th Ave N\nTexas City\, Tx 77590 \n\nRSVP to Christie via email if you have any questions.
URL:https://cwa-tseu.org/event/dfps-organizing-committee-meeting-for-region-6b-south/
LOCATION:RSVP for Venue
ORGANIZER;CN="Christie Carrington":MAILTO:ccarrington@cwa-tseu.org
END:VEVENT
BEGIN:VEVENT
DTSTART;TZID=America/Chicago:20250928T110000
DTEND;TZID=America/Chicago:20250928T130000
DTSTAMP:20260425T203752
CREATED:20250822T182123Z
LAST-MODIFIED:20250822T182123Z
UID:15792-1759057200-1759064400@cwa-tseu.org
SUMMARY:San Antonio and South Texas Regional TSEU Book Club
DESCRIPTION:We will be reading “Secrets of a Successful Organizer” and participating in a workshop on the materials discussed in the book. Come join us and learn how to be a successful labor leader in your workplace!
URL:https://cwa-tseu.org/event/san-antonio-and-south-texas-regional-tseu-book-club/
LOCATION:Hybrid – in office & virtual
ORGANIZER;CN="Carolynn Ekbaeck":MAILTO:cekbaeck@cwa-tseu.org
END:VEVENT
BEGIN:VEVENT
DTSTART;TZID=America/Chicago:20250925T180000
DTEND;TZID=America/Chicago:20250925T210000
DTSTAMP:20260425T203752
CREATED:20250804T165139Z
LAST-MODIFIED:20250804T165139Z
UID:15753-1758823200-1758834000@cwa-tseu.org
SUMMARY:Retiree Organizing Committee (ROC) Statewide Committee Meeting
DESCRIPTION:Retiree Organizing Committee (ROC) State Committee Meeting \nMonthly meeting of the ROC Statewide Committee \n6:00 PM CST (every 4th Thursday) \n Virtual. Send an email to the address below for Zoom link.
URL:https://cwa-tseu.org/event/retiree-organizing-committee-roc-statewide-committee-meeting/
LOCATION:Virtual
ORGANIZER;CN="ROC":MAILTO:tseuroc@gmail.com
END:VEVENT
BEGIN:VEVENT
DTSTART;TZID=America/Chicago:20250925T110000
DTEND;TZID=America/Chicago:20250925T120000
DTSTAMP:20260425T203752
CREATED:20250922T162131Z
LAST-MODIFIED:20250922T162137Z
UID:15887-1758798000-1758801600@cwa-tseu.org
SUMMARY:Rally for Dr. Tom Alter & Free Speech at Texas Universities
DESCRIPTION:✊ Stand with Dr. Tom Alter\n📅 Thurs. Sept. 25th • 11am to noon\n📍 Hays County Historic Courthouse\, San Marcos\nTexas State University fired a tenured professor for speaking as a private citizen. Free speech\, academic freedom\, and due process are at stake. #ReinstateTomAlter #DefendFreeSpeech \nStay tuned for more info to come.
URL:https://cwa-tseu.org/event/rally-for-dr-tom-alter-free-speech-at-texas-universities/
ORGANIZER;CN="Catarina Kissinger":MAILTO:ckissinger@cwa-tseu.org
END:VEVENT
END:VCALENDAR